BEGIN:VCALENDAR
VERSION:2.0
PRODID:researchseminars.org
CALSCALE:GREGORIAN
X-WR-CALNAME:researchseminars.org
BEGIN:VEVENT
SUMMARY:Shu-Heng Shao (Stony Brook University)
DTSTART:20221115T193000Z
DTEND:20221115T203000Z
DTSTAMP:20260423T024536Z
UID:nhetc/52
DESCRIPTION:Title: <a href="https://researchseminars.org/talk/nhetc/52/">N
 on-invertible Symmetries in Nature</a>\nby Shu-Heng Shao (Stony Brook Univ
 ersity) as part of NHETC Seminar\n\n\nAbstract\nI will talk about non-inve
 rtible global symmetries in QED and QCD\, and how the neutral pion decay r
 ate can be determined from matching this new global symmetry. I will then 
 discuss a non-invertible 1-form symmetry from the anomalous Gauss law in a
 xion-Maxwell theory.\n
LOCATION:https://researchseminars.org/talk/nhetc/52/
END:VEVENT
END:VCALENDAR
