BEGIN:VCALENDAR
VERSION:2.0
PRODID:researchseminars.org
CALSCALE:GREGORIAN
X-WR-CALNAME:researchseminars.org
BEGIN:VEVENT
SUMMARY:К.П. Дружков (МГУ)
DTSTART:20220120T110000Z
DTEND:20220120T120000Z
DTSTAMP:20260423T021326Z
UID:mmandim/33
DESCRIPTION:Title: <a href="https://researchseminars.org/talk/mmandim/33/"
 >О вариационных принципах для уравнений 
 пограничного слоя</a>\nby К.П. Дружков (МГУ) a
 s part of Mathematical models and integration methods\n\nAbstract: TBA\n\n
 В докладе будут рассмотрены стационарны
 е уравнения пограничного слоя в эйлеров
 ых переменных (при постоянном давлении п
 оступательно движущегося внешнего пото
 ка). Для этой системы уравнений будет дан
 о полное решение обратной задачи вариац
 ионного исчисления: будет показано\, что 
 не существует ни одного функционала дей
 ствие\, такого что:\n1) среди его стационар
 ных точек содержатся все решения данной 
 системы (и\, быть может\, что-нибудь ещё)\,\n
 2) определяемое им соответствие из теоре
 мы Нётер нетривиально.\n
LOCATION:https://researchseminars.org/talk/mmandim/33/
END:VEVENT
END:VCALENDAR
