BEGIN:VCALENDAR
VERSION:2.0
PRODID:researchseminars.org
CALSCALE:GREGORIAN
X-WR-CALNAME:researchseminars.org
BEGIN:VEVENT
SUMMARY:Andrei Okounkov (Columbia University)
DTSTART:20220203T090000Z
DTEND:20220203T100000Z
DTSTAMP:20260423T052929Z
UID:ZAG/175
DESCRIPTION:Title: <a href="https://researchseminars.org/talk/ZAG/175/">Th
 e unramified Eisenstein spectrum</a>\nby Andrei Okounkov (Columbia Univers
 ity) as part of ZAG (Zoom Algebraic Geometry) seminar\n\n\nAbstract\nI wil
 l report on joint work with David Kazhdan\, in which we determine the unra
 mified Eisenstein spectrum for\nall split reductive groups over a global f
 ield. Our methods are rooted in topology and algebraic geometry.\nSpecific
 ally\, we relate the spectral decomposition to a decomposition of $T^*(B \
 \backslash G / B)$ in in a certain cobordism group\, where $G$ is the Lang
 lands dual group. This works equally well for fields of positive and zero 
 characteristic.\n
LOCATION:https://researchseminars.org/talk/ZAG/175/
END:VEVENT
END:VCALENDAR
