BEGIN:VCALENDAR
VERSION:2.0
PRODID:researchseminars.org
CALSCALE:GREGORIAN
X-WR-CALNAME:researchseminars.org
BEGIN:VEVENT
SUMMARY:Viviana Ene (Ovidius University\, Constanta\, Romania)
DTSTART:20210115T120000Z
DTEND:20210115T130000Z
DTSTAMP:20260423T035056Z
UID:VCAS/65
DESCRIPTION:Title: <a href="https://researchseminars.org/talk/VCAS/65/">Bi
 nomial edge ideals</a>\nby Viviana Ene (Ovidius University\, Constanta\, R
 omania) as part of IIT Bombay Virtual Commutative Algebra Seminar\n\n\nAbs
 tract\nIn this talk we will survey various old and new results on the homo
 logical and algebraic properties of binomial edge ideals. In the last part
  of the talk\, we will present some new results of a recent joint paper wi
 th G. Rinaldo and N. Terai on powers of binomial edge ideals with quadrati
 c Groebner bases.\n
LOCATION:https://researchseminars.org/talk/VCAS/65/
END:VEVENT
END:VCALENDAR
