BEGIN:VCALENDAR
VERSION:2.0
PRODID:researchseminars.org
CALSCALE:GREGORIAN
X-WR-CALNAME:researchseminars.org
BEGIN:VEVENT
SUMMARY:Paolo Piccione (USP)
DTSTART:20200806T190000Z
DTEND:20200806T200000Z
DTSTAMP:20260423T035729Z
UID:UFPB/2
DESCRIPTION:Title: <a href="https://researchseminars.org/talk/UFPB/2/">Bif
 urcação: a arte de encontrar soluções legais utilizando soluções tri
 viais</a>\nby Paolo Piccione (USP) as part of Seminários de Matemática d
 a UFPB\n\n\nAbstract\nA Bifurcação\, uma das teorias melhor estabelecida
 s da Matemática moderna\, fornece instrumentos poderosos para determinar 
 soluções de muitos problemas em Análise e em Geometria. Nesta palestra 
 vou falar sobre alguns dos problemas variacionais da Geometria que estudei
  com técnicas de bifurcação. Em todos estes problemas\, a ideia de fund
 o é a de perturbar soluções triviais\, até torná-las instáveis\, pro
 duzindo desta forma outras soluções não triviais.\n
LOCATION:https://researchseminars.org/talk/UFPB/2/
END:VEVENT
END:VCALENDAR
