BEGIN:VCALENDAR
VERSION:2.0
PRODID:researchseminars.org
CALSCALE:GREGORIAN
X-WR-CALNAME:researchseminars.org
BEGIN:VEVENT
SUMMARY:Séverin Philip (l'Université Grenoble Alpes)
DTSTART:20201209T130000Z
DTEND:20201209T143000Z
DTSTAMP:20260423T021604Z
UID:Rega/5
DESCRIPTION:Title: <a href="https://researchseminars.org/talk/Rega/5/">Cri
 tères de réductions pour les variétés abéliennes</a>\nby Séverin Phi
 lip (l'Université Grenoble Alpes) as part of RéGA (Réseau des étudiant
 s en Géométrie Algébrique)\n\n\nAbstract\nJe vais d'abord introduire le
 s différentes notions de réductions pour les variétés abéliennes dans
  le cadre des courbes elliptiques avec un survol des différentes question
 s arithmétiques qui y sont liées. Cela sera motivé par quelques exemple
 s que je garderai au cours de l'exposé. J'introduirai ensuite les "modèl
 es de Néron" succinctement pour montrer comment généraliser en dimensio
 n supérieure ce qu'on aura vu. Je donnerai ensuite une preuve (presque) c
 omplète du critère de bonne réduction de Néron-Ogg-Shafarevich pour me
 ttre en lumière les relations entre géométrie et arithmétique. Je fini
 rai par mentionner les résultats fondamentaux de Grothendieck concernant 
 la réduction semi-stable et quelques conséquences.\n\nLe code d'accès e
 st 406449.\n
LOCATION:https://researchseminars.org/talk/Rega/5/
END:VEVENT
END:VCALENDAR
