BEGIN:VCALENDAR
VERSION:2.0
PRODID:researchseminars.org
CALSCALE:GREGORIAN
X-WR-CALNAME:researchseminars.org
BEGIN:VEVENT
SUMMARY:Robert Brandenberger (McGill University)
DTSTART:20211028T150000Z
DTEND:20211028T170000Z
DTSTAMP:20260423T005831Z
UID:QGHOLQI/13
DESCRIPTION:Title: <a href="https://researchseminars.org/talk/QGHOLQI/13/"
 >Nonsingular Cosmologies and Black Holes with S-Branes</a>\nby Robert Bran
 denberger (McGill University) as part of Quantum Gravity and All of That\n
 \n\nAbstract\nS-Branes are objects motivated by superstring theory which a
 ppear in a low energy effective action for our four dimensional space-time
 . I will demonstrate how such branes can be used to obtain nonsingular cos
 mologies (specifically\, a nonsingular realization of the Ekpyrotic scenar
 io) and nonsingular black holes.\n
LOCATION:https://researchseminars.org/talk/QGHOLQI/13/
END:VEVENT
END:VCALENDAR
