BEGIN:VCALENDAR
VERSION:2.0
PRODID:researchseminars.org
CALSCALE:GREGORIAN
X-WR-CALNAME:researchseminars.org
BEGIN:VEVENT
SUMMARY:Luis Santiago Palacios (Universidad de Santiago de Chile)
DTSTART:20210701T180000Z
DTEND:20210701T190000Z
DTSTAMP:20260423T021237Z
UID:LATeN/51
DESCRIPTION:Title: <a href="https://researchseminars.org/talk/LATeN/51/">S
 obre funciones $L$ $p$-ádicas de formas de Bianchi</a>\nby Luis Santiago 
 Palacios (Universidad de Santiago de Chile) as part of Coloquio Latinoamer
 icano de Teoría de Números\n\n\nAbstract\nEn esta charla comenzaremos re
 cordando la teoría clásica de las formas modulares de Bianchi o sea las 
 formas automorfas de $GL_2$ sobre un cuerpo cuadrático imaginario. Luego 
 nos concentraremos en algunos resultados $p$-ádicos recientes en este con
 texto\, como el estudio de valores de funciones $L$. En particular present
 aremos nuestros resultados sobre la ecuación funcional de la función $L$
  $p$-ádica en el caso cuspidal y las bases de un trabajo en curso sobre l
 a función $L$ $p$-ádica de series de Eisenstein de Bianchi.\n
LOCATION:https://researchseminars.org/talk/LATeN/51/
END:VEVENT
END:VCALENDAR
