BEGIN:VCALENDAR
VERSION:2.0
PRODID:researchseminars.org
CALSCALE:GREGORIAN
X-WR-CALNAME:researchseminars.org
BEGIN:VEVENT
SUMMARY:Joaquin Rodrigues Jacinto (École Normale Supérieure de Lyon)
DTSTART:20201112T180000Z
DTEND:20201112T190000Z
DTSTAMP:20260423T035734Z
UID:LATeN/29
DESCRIPTION:Title: <a href="https://researchseminars.org/talk/LATeN/29/">R
 eguladores superiores de variedades de Siegel</a>\nby Joaquin Rodrigues Ja
 cinto (École Normale Supérieure de Lyon) as part of Coloquio Latinoameri
 cano de Teoría de Números\n\n\nAbstract\nEn esta charla vamos a explicar
  un trabajo con Antonio Cauchi y Francesco Lemma en el que construimos cla
 ses en la cohomología motívica de variedades de Siegel y donde calculamo
 s sus reguladores de Beilinson-Deligne en términos de integrales adélica
 s de tipo Rankin-Selberg. La existencia de clases en esos grupos de cohomo
 logía está predicha por las conjecturas de Beilinson\, que también pred
 ice una relación entre los reguladores de las mismas y valores especiales
  de ciertas funciones L. Tratamos este último punto para el caso de dimen
 sión 6.\n
LOCATION:https://researchseminars.org/talk/LATeN/29/
END:VEVENT
END:VCALENDAR
