BEGIN:VCALENDAR
VERSION:2.0
PRODID:researchseminars.org
CALSCALE:GREGORIAN
X-WR-CALNAME:researchseminars.org
BEGIN:VEVENT
SUMMARY:Ángel Villanueva (Universidad Nacional de Cuyo)
DTSTART:20200702T200000Z
DTEND:20200702T210000Z
DTSTAMP:20260423T021305Z
UID:LATeN/12
DESCRIPTION:Title: <a href="https://researchseminars.org/talk/LATeN/12/">R
 epresentaciones de Galois de curvas superelípticas</a>\nby Ángel Villanu
 eva (Universidad Nacional de Cuyo) as part of Coloquio Latinoamericano de 
 Teoría de Números\n\n\nAbstract\nEsta charla está basada en un trabajo 
 en progreso junto con Ariel Pacetti\, en el cual describimos la representa
 ción de Galois asociada a una curva superelíptica sobre un cuerpo local 
 (dada por una ecuación de la forma $y^n = f(x)$) a partir de cierto objet
 o combinatorio (denominado cluster) asociado a las raíces del polinomio $
 f(x)$.\n
LOCATION:https://researchseminars.org/talk/LATeN/12/
END:VEVENT
END:VCALENDAR
