BEGIN:VCALENDAR
VERSION:2.0
PRODID:researchseminars.org
CALSCALE:GREGORIAN
X-WR-CALNAME:researchseminars.org
BEGIN:VEVENT
SUMMARY:Ariel Pacetti (Universidad Nacional de Córdoba)
DTSTART:20200618T200000Z
DTEND:20200618T210000Z
DTSTAMP:20260423T021306Z
UID:LATeN/10
DESCRIPTION:Title: <a href="https://researchseminars.org/talk/LATeN/10/">$
 \\Q$ curvas\, modularidad y problemas diofánticos</a>\nby Ariel Pacetti (
 Universidad Nacional de Córdoba) as part of Coloquio Latinoamericano de T
 eoría de Números\n\n\nAbstract\nEn esta charla daremos la definición de
  $\\Q$-curvas\, veremos que tienen asociadas representaciones de Galois qu
 e descienden a $\\Q$\, y como las conjeturas de Serre implica su modularid
 ad. Si el tiempo lo permite\, mostraremos como las mismas aparecen al estu
 diar ciertos problemas diofánticos.\n
LOCATION:https://researchseminars.org/talk/LATeN/10/
END:VEVENT
END:VCALENDAR
