BEGIN:VCALENDAR
VERSION:2.0
PRODID:researchseminars.org
CALSCALE:GREGORIAN
X-WR-CALNAME:researchseminars.org
BEGIN:VEVENT
SUMMARY:Hideki Murahara (University of Kitakyushu)
DTSTART:20211026T080000Z
DTEND:20211026T090000Z
DTSTAMP:20260423T010922Z
UID:JENTE/47
DESCRIPTION:Title: <a href="https://researchseminars.org/talk/JENTE/47/">O
 n the linear relations among the parametrized multiple series</a>\nby Hide
 ki Murahara (University of Kitakyushu) as part of Japan Europe Number Theo
 ry Exchange Seminar\n\n\nAbstract\nThe parametrized multiple series are ge
 neralizations of multiple zeta values introduced by Igarashi. In this talk
 \, the speaker would like to show a new relation among them. More precisel
 y\, he will show the following two statements: the linear part of the Kawa
 shima relation of multiple zeta values is generalized to the parametrized 
 multiple series\, and any linear relations among parametrized multiple ser
 ies can be written as a linear combination of this relation. This is joint
  work with Minoru Hirose in Nagoya University and Tomokazu Onozuka in Kyus
 hu University.\n
LOCATION:https://researchseminars.org/talk/JENTE/47/
END:VEVENT
END:VCALENDAR
