BEGIN:VCALENDAR
VERSION:2.0
PRODID:researchseminars.org
CALSCALE:GREGORIAN
X-WR-CALNAME:researchseminars.org
BEGIN:VEVENT
SUMMARY:Erik Panzer (University of Oxford)
DTSTART:20210601T083500Z
DTEND:20210601T090500Z
DTSTAMP:20260423T021243Z
UID:JENTE/32
DESCRIPTION:Title: <a href="https://researchseminars.org/talk/JENTE/32/">S
 ingle-valued integrals over discs</a>\nby Erik Panzer (University of Oxfor
 d) as part of Japan Europe Number Theory Exchange Seminar\n\n\nAbstract\nI
  will briefly explain how integrals over moduli spaces of marked discs app
 ear in deformation quantization. The talk will then recap the single-value
 d integration procedure of Brown and Schnetz\, explain the difference due 
 to the presence of the disc boundary\, and hence how 'non-single valued mu
 ltiple zeta values' appear as single-valued integrals. This is joint work 
 with Brent Pym and Peter Banks\, https://arxiv.org/abs/1812.11649.\n
LOCATION:https://researchseminars.org/talk/JENTE/32/
END:VEVENT
END:VCALENDAR
