BEGIN:VCALENDAR
VERSION:2.0
PRODID:researchseminars.org
CALSCALE:GREGORIAN
X-WR-CALNAME:researchseminars.org
BEGIN:VEVENT
SUMMARY:Makoto Kawashima (Nihon University)
DTSTART:20210202T084000Z
DTEND:20210202T091000Z
DTSTAMP:20260423T010857Z
UID:JENTE/30
DESCRIPTION:Title: <a href="https://researchseminars.org/talk/JENTE/30/">L
 inear forms in polylogarithms</a>\nby Makoto Kawashima (Nihon University) 
 as part of Japan Europe Number Theory Exchange Seminar\n\n\nAbstract\nWe s
 hall discuss a recent joint work with Sinnou David and Noriko Hirata. In t
 his talk\, we introduce a linear independence criterion of values of gener
 alized Lerch functions. By this criterion\, we obtain new linear independe
 nce results on the values of polylogarithms at distinct points over an alg
 ebraic number field. This is done via a construction of an explicit system
  of Padé apppoximants of generalized Lerch functions.\n
LOCATION:https://researchseminars.org/talk/JENTE/30/
END:VEVENT
END:VCALENDAR
