BEGIN:VCALENDAR
VERSION:2.0
PRODID:researchseminars.org
CALSCALE:GREGORIAN
X-WR-CALNAME:researchseminars.org
BEGIN:VEVENT
SUMMARY:Alejandro Adem (University of British Columbia)
DTSTART:20201116T150000Z
DTEND:20201116T155000Z
DTSTAMP:20260422T135430Z
UID:BilTop/5
DESCRIPTION:Title: <a href="https://researchseminars.org/talk/BilTop/5/">F
 ree Finite Group Actions on Rational Homology Spheres</a>\nby Alejandro Ad
 em (University of British Columbia) as part of Bilkent Topology Seminar\n\
 nLecture held in SB-Z11.\n\nAbstract\nIn this talk we will describe joint 
 work with Ian Hambleton on finite group actions on rational homology 3-sph
 eres\, focusing on the case of untwisted actions. Applications to hyperbol
 ic manifolds and possible extensions to higher dimensional manifolds will 
 also be discussed. Several examples will be provided.\n
LOCATION:https://researchseminars.org/talk/BilTop/5/
END:VEVENT
END:VCALENDAR
