BEGIN:VCALENDAR
VERSION:2.0
PRODID:researchseminars.org
CALSCALE:GREGORIAN
X-WR-CALNAME:researchseminars.org
BEGIN:VEVENT
SUMMARY:Gianguido Dall'Agata (Padua U.)
DTSTART:20220413T140000Z
DTEND:20220413T150000Z
DTSTAMP:20260423T035532Z
UID:AnLy/9
DESCRIPTION:Title: <a href="https://researchseminars.org/talk/AnLy/9/">Sup
 ergravity and the weak gravity conjecture</a>\nby Gianguido Dall'Agata (Pa
 dua U.) as part of AnLy Strings and Fields online seminars\n\n\nAbstract\n
 I will show how the weak gravity conjecture applied to 4-dimensional super
 gravity theories can be very powerful in constraining which models can be 
 realistically obtained as low-energy effective theories of string theory. 
 In particular\, I will discuss how we can obtain rather general and strong
  constraints on scale separation between the lower and higher dimensional 
 theory and how most models with positive energy critical points cannot hav
 e a consistent string theory origin.\n
LOCATION:https://researchseminars.org/talk/AnLy/9/
END:VEVENT
END:VCALENDAR
