BEGIN:VCALENDAR
VERSION:2.0
PRODID:researchseminars.org
CALSCALE:GREGORIAN
X-WR-CALNAME:researchseminars.org
BEGIN:VEVENT
SUMMARY:Philipp Lücke (Universitat de Barcelona)
DTSTART:20201007T140000Z
DTEND:20201007T153000Z
DTSTAMP:20260422T225847Z
UID:BCNSETS/1
DESCRIPTION:Title: <a href="https://researchseminars.org/talk/BCNSETS/1/">
 Structural reflection\, shrewd cardinals and the size of the continuum</a>
 \nby Philipp Lücke (Universitat de Barcelona) as part of Barcelona Set Th
 eory Seminar\n\nAbstract: TBA\n
LOCATION:https://researchseminars.org/talk/BCNSETS/1/
END:VEVENT
BEGIN:VEVENT
SUMMARY:Claudio Ternullo (Universitat de Barcelona)
DTSTART:20201014T140000Z
DTEND:20201014T153000Z
DTSTAMP:20260422T225847Z
UID:BCNSETS/2
DESCRIPTION:Title: <a href="https://researchseminars.org/talk/BCNSETS/2/">
 Steel's Programme: Evidential Framework\, the Core and Ultimate-L</a>\nby 
 Claudio Ternullo (Universitat de Barcelona) as part of Barcelona Set Theor
 y Seminar\n\nAbstract: TBA\n
LOCATION:https://researchseminars.org/talk/BCNSETS/2/
END:VEVENT
BEGIN:VEVENT
SUMMARY:Gabriel Goldberg (University of Berkeley)
DTSTART:20201111T150000Z
DTEND:20201111T163000Z
DTSTAMP:20260422T225847Z
UID:BCNSETS/3
DESCRIPTION:by Gabriel Goldberg (University of Berkeley) as part of Barcel
 ona Set Theory Seminar\n\nAbstract: TBA\n
LOCATION:https://researchseminars.org/talk/BCNSETS/3/
END:VEVENT
BEGIN:VEVENT
SUMMARY:Mirna Dzamonja (Université Paris 1)
DTSTART:20201021T140000Z
DTEND:20201021T153000Z
DTSTAMP:20260422T225847Z
UID:BCNSETS/4
DESCRIPTION:Title: <a href="https://researchseminars.org/talk/BCNSETS/4/">
 On Wide Aronszajn Trees</a>\nby Mirna Dzamonja (Université Paris 1) as pa
 rt of Barcelona Set Theory Seminar\n\n\nAbstract\nAronszajn trees are a st
 aple of set theory\, but there are applications where the requirement of a
 ll levels being countable is of no importance. This is the case in set-the
 oretic model theory\, where trees of height and size \\omega_1. but with n
 o uncountable branches play an important role by being clocks of Ehrenfeuc
 ht--Fraïssé games that measure similarity of model of size \\aleph_1. We
  call such trees wide Aronszajn. In this context one can also compare tree
 s T and T’ by saying that T weakly embeds into T’ if there is a functi
 on f that map T into T’ while preserving the strict order <_T. This orde
 r translates into the comparison of winning strategies for the isomorphism
  player\, where any winning strategy for T’ translates into a winning st
 rategy for T’. Hence it is natural to ask if there is a largest such tre
 e\, or as we would say\, a universal tree for the class of wood Aronszajn 
 trees with weak embeddings. It was known that there is no such a tree unde
 r CH\, but in 1994 Mekler and V\\"a\\"an\\"anen conjectured that there wou
 ld be under MA(\\omega_1). In our upcoming JSL  paper with Saharon Shelah 
 we prove that this is not the case: under MA(\\omega_1) there is no univer
 sal wide Aronszajn tree. The talk will discuss that paper. The paper is av
 ailable on the arxiv and on line at JSL in the preproof version DOI: 10.10
 17/jsl.2020.42\n
LOCATION:https://researchseminars.org/talk/BCNSETS/4/
END:VEVENT
BEGIN:VEVENT
SUMMARY:Andrew Brooke-Taylor (University of Leeds)
DTSTART:20201125T150000Z
DTEND:20201125T163000Z
DTSTAMP:20260422T225847Z
UID:BCNSETS/5
DESCRIPTION:Title: <a href="https://researchseminars.org/talk/BCNSETS/5/">
 Categorifying Borel reducibility</a>\nby Andrew Brooke-Taylor (University 
 of Leeds) as part of Barcelona Set Theory Seminar\n\n\nAbstract\nBorel red
 ucibility is a framework that has been very successful in showing that cla
 ssification programmes in different areas of mathematics are not possible 
 to complete.  However\, a feature of many such classification programmes t
 hat is not accounted for in the standard Borel reducibility framework is f
 unctoriality - a good classification function is expected to respect all m
 aps between objects\, not just the isomorphisms.  I will present an extens
 ion of the Borel reducibility framework that takes functoriality into acco
 unt\, and give some initial results showing that this is a meaningful refi
 nement of the standard framework.\n
LOCATION:https://researchseminars.org/talk/BCNSETS/5/
END:VEVENT
BEGIN:VEVENT
SUMMARY:Neil Barton (Universität Konstanz)
DTSTART:20201209T150000Z
DTEND:20201209T163000Z
DTSTAMP:20260422T225847Z
UID:BCNSETS/6
DESCRIPTION:Title: <a href="https://researchseminars.org/talk/BCNSETS/6/">
 Intensional classes and intuitionistic topoi</a>\nby Neil Barton (Universi
 tät Konstanz) as part of Barcelona Set Theory Seminar\n\nAbstract: TBA\n
LOCATION:https://researchseminars.org/talk/BCNSETS/6/
END:VEVENT
BEGIN:VEVENT
SUMMARY:Giorgio Venturi (Universidade Estadual de Campinas)
DTSTART:20201104T150000Z
DTEND:20201104T163000Z
DTSTAMP:20260422T225847Z
UID:BCNSETS/7
DESCRIPTION:by Giorgio Venturi (Universidade Estadual de Campinas) as part
  of Barcelona Set Theory Seminar\n\nAbstract: TBA\n
LOCATION:https://researchseminars.org/talk/BCNSETS/7/
END:VEVENT
BEGIN:VEVENT
SUMMARY:Joel Hamkins (University of Oxford)
DTSTART:20201028T150000Z
DTEND:20201028T163000Z
DTSTAMP:20260422T225847Z
UID:BCNSETS/8
DESCRIPTION:by Joel Hamkins (University of Oxford) as part of Barcelona Se
 t Theory Seminar\n\nAbstract: TBA\n
LOCATION:https://researchseminars.org/talk/BCNSETS/8/
END:VEVENT
BEGIN:VEVENT
SUMMARY:Toby Meadows (University of California\, Irvine)
DTSTART:20201202T150000Z
DTEND:20201202T163000Z
DTSTAMP:20260422T225847Z
UID:BCNSETS/9
DESCRIPTION:Title: <a href="https://researchseminars.org/talk/BCNSETS/9/">
 What set theory could not be</a>\nby Toby Meadows (University of Californi
 a\, Irvine) as part of Barcelona Set Theory Seminar\n\n\nAbstract\nI am go
 ing to argue that set theory – playing its foundational role – is not 
 particularly concerned with sets. Despite appearances\, I don't think this
  is a frivolous claim. Among other things\, even if the conclusion is doub
 ted\, it reveals an important split in attitudes researchers have toward s
 et theory.\n
LOCATION:https://researchseminars.org/talk/BCNSETS/9/
END:VEVENT
BEGIN:VEVENT
SUMMARY:Victoria Gitman (City University of New York)
DTSTART:20201216T150000Z
DTEND:20201216T163000Z
DTSTAMP:20260422T225847Z
UID:BCNSETS/10
DESCRIPTION:by Victoria Gitman (City University of New York) as part of Ba
 rcelona Set Theory Seminar\n\nAbstract: TBA\n
LOCATION:https://researchseminars.org/talk/BCNSETS/10/
END:VEVENT
BEGIN:VEVENT
SUMMARY:Trevor Wilson (Miami University (OH))
DTSTART:20210113T150000Z
DTEND:20210113T163000Z
DTSTAMP:20260422T225847Z
UID:BCNSETS/11
DESCRIPTION:by Trevor Wilson (Miami University (OH)) as part of Barcelona 
 Set Theory Seminar\n\nAbstract: TBA\n
LOCATION:https://researchseminars.org/talk/BCNSETS/11/
END:VEVENT
BEGIN:VEVENT
SUMMARY:Monroe Eskew (KGRC\, University of Vienna)
DTSTART:20201118T150000Z
DTEND:20201118T163000Z
DTSTAMP:20260422T225847Z
UID:BCNSETS/12
DESCRIPTION:Title: <a href="https://researchseminars.org/talk/BCNSETS/12/"
 >Uncommon systems of embeddings</a>\nby Monroe Eskew (KGRC\, University of
  Vienna) as part of Barcelona Set Theory Seminar\n\n\nAbstract\nWe will su
 rvey some results from two papers about systems of elementary embeddings t
 hat "narrowly avoid” Kunen’s inconsistency.  The first involves system
 s where the embedding is amenable to the target model.  The uncommon featu
 res are that the system can be densely ordered (even isomorphic to the rea
 ls) and branch off into non-amalgamable models.  The second paper focuses 
 on collections of distinct models that are pairwise mutually embeddable.  
 Some restrictions on the structure of the system are imposed by requiring 
 the models to satisfy V=HOD.  This is joint work with Sy Friedman\, Yair H
 ayut\, and Farmer Schlutzenberg.\n
LOCATION:https://researchseminars.org/talk/BCNSETS/12/
END:VEVENT
BEGIN:VEVENT
SUMMARY:Vera Fischer (KGRC\, University of Vienna)
DTSTART:20210120T150000Z
DTEND:20210120T163000Z
DTSTAMP:20260422T225847Z
UID:BCNSETS/13
DESCRIPTION:by Vera Fischer (KGRC\, University of Vienna) as part of Barce
 lona Set Theory Seminar\n\nAbstract: TBA\n
LOCATION:https://researchseminars.org/talk/BCNSETS/13/
END:VEVENT
BEGIN:VEVENT
SUMMARY:Adrian R. D. Mathias (Université de la Réunion)
DTSTART:20210203T150000Z
DTEND:20210203T163000Z
DTSTAMP:20260422T225847Z
UID:BCNSETS/14
DESCRIPTION:Title: <a href="https://researchseminars.org/talk/BCNSETS/14/"
 >Power-admissible sets and ill-founded \\omega-models of weak subsystems o
 f ZFC</a>\nby Adrian R. D. Mathias (Université de la Réunion) as part of
  Barcelona Set Theory Seminar\n\nAbstract: TBA\n
LOCATION:https://researchseminars.org/talk/BCNSETS/14/
END:VEVENT
BEGIN:VEVENT
SUMMARY:Richard Matthews (University of Leeds)
DTSTART:20210127T150000Z
DTEND:20210127T163000Z
DTSTAMP:20260422T225847Z
UID:BCNSETS/15
DESCRIPTION:Title: <a href="https://researchseminars.org/talk/BCNSETS/15/"
 >Taking Reinhardt's Power Away</a>\nby Richard Matthews (University of Lee
 ds) as part of Barcelona Set Theory Seminar\n\nAbstract: TBA\n
LOCATION:https://researchseminars.org/talk/BCNSETS/15/
END:VEVENT
BEGIN:VEVENT
SUMMARY:Peter Koellner (University of Harvard)
DTSTART:20210324T150000Z
DTEND:20210324T163000Z
DTSTAMP:20260422T225847Z
UID:BCNSETS/16
DESCRIPTION:by Peter Koellner (University of Harvard) as part of Barcelona
  Set Theory Seminar\n\nAbstract: TBA\n
LOCATION:https://researchseminars.org/talk/BCNSETS/16/
END:VEVENT
BEGIN:VEVENT
SUMMARY:Brent Cody (Virginia Commonwealth University)
DTSTART:20210224T150000Z
DTEND:20210224T163000Z
DTSTAMP:20260422T225847Z
UID:BCNSETS/17
DESCRIPTION:by Brent Cody (Virginia Commonwealth University) as part of Ba
 rcelona Set Theory Seminar\n\nAbstract: TBA\n
LOCATION:https://researchseminars.org/talk/BCNSETS/17/
END:VEVENT
BEGIN:VEVENT
SUMMARY:Hiroshi Sakai (Kobe University)
DTSTART:20210217T150000Z
DTEND:20210217T163000Z
DTSTAMP:20260422T225847Z
UID:BCNSETS/18
DESCRIPTION:by Hiroshi Sakai (Kobe University) as part of Barcelona Set Th
 eory Seminar\n\nAbstract: TBA\n
LOCATION:https://researchseminars.org/talk/BCNSETS/18/
END:VEVENT
BEGIN:VEVENT
SUMMARY:Matteo Viale (Università di Torino)
DTSTART:20210210T150000Z
DTEND:20210210T163000Z
DTSTAMP:20260422T225847Z
UID:BCNSETS/20
DESCRIPTION:Title: <a href="https://researchseminars.org/talk/BCNSETS/20/"
 >The model-companionship spectrum of set theory\, generic absoluteness\, a
 nd the continuum problem</a>\nby Matteo Viale (Università di Torino) as p
 art of Barcelona Set Theory Seminar\n\nAbstract: TBA\n
LOCATION:https://researchseminars.org/talk/BCNSETS/20/
END:VEVENT
BEGIN:VEVENT
SUMMARY:Carolin Antos (Universität Konstanz)
DTSTART:20210310T150000Z
DTEND:20210310T163000Z
DTSTAMP:20260422T225847Z
UID:BCNSETS/21
DESCRIPTION:by Carolin Antos (Universität Konstanz) as part of Barcelona 
 Set Theory Seminar\n\nAbstract: TBA\n
LOCATION:https://researchseminars.org/talk/BCNSETS/21/
END:VEVENT
BEGIN:VEVENT
SUMMARY:Farmer Schlutzenberg (University of Muenster)
DTSTART:20210407T140000Z
DTEND:20210407T153000Z
DTSTAMP:20260422T225847Z
UID:BCNSETS/24
DESCRIPTION:by Farmer Schlutzenberg (University of Muenster) as part of Ba
 rcelona Set Theory Seminar\n\nAbstract: TBA\n
LOCATION:https://researchseminars.org/talk/BCNSETS/24/
END:VEVENT
BEGIN:VEVENT
SUMMARY:Easter break
DTSTART:20210331T140000Z
DTEND:20210331T153000Z
DTSTAMP:20260422T225847Z
UID:BCNSETS/25
DESCRIPTION:by Easter break as part of Barcelona Set Theory Seminar\n\nAbs
 tract: TBA\n
LOCATION:https://researchseminars.org/talk/BCNSETS/25/
END:VEVENT
BEGIN:VEVENT
SUMMARY:Erin Carmody (Fordham University at Rose Hill)
DTSTART:20210414T140000Z
DTEND:20210414T153000Z
DTSTAMP:20260422T225847Z
UID:BCNSETS/26
DESCRIPTION:by Erin Carmody (Fordham University at Rose Hill) as part of B
 arcelona Set Theory Seminar\n\nAbstract: TBA\n
LOCATION:https://researchseminars.org/talk/BCNSETS/26/
END:VEVENT
BEGIN:VEVENT
SUMMARY:Sam Roberts (Universität Konstanz)
DTSTART:20210421T140000Z
DTEND:20210421T153000Z
DTSTAMP:20260422T225847Z
UID:BCNSETS/27
DESCRIPTION:Title: <a href="https://researchseminars.org/talk/BCNSETS/27/"
 >Reinhardt's Potentialism</a>\nby Sam Roberts (Universität Konstanz) as p
 art of Barcelona Set Theory Seminar\n\nAbstract: TBA\n
LOCATION:https://researchseminars.org/talk/BCNSETS/27/
END:VEVENT
BEGIN:VEVENT
SUMMARY:Yair Hayut (Jerusalem)
DTSTART:20210428T140000Z
DTEND:20210428T153000Z
DTSTAMP:20260422T225847Z
UID:BCNSETS/28
DESCRIPTION:by Yair Hayut (Jerusalem) as part of Barcelona Set Theory Semi
 nar\n\nAbstract: TBA\n
LOCATION:https://researchseminars.org/talk/BCNSETS/28/
END:VEVENT
BEGIN:VEVENT
SUMMARY:Luca Incurvati (UvA (Amsterdam))
DTSTART:20210519T140000Z
DTEND:20210519T153000Z
DTSTAMP:20260422T225847Z
UID:BCNSETS/29
DESCRIPTION:by Luca Incurvati (UvA (Amsterdam)) as part of Barcelona Set T
 heory Seminar\n\nAbstract: TBA\n
LOCATION:https://researchseminars.org/talk/BCNSETS/29/
END:VEVENT
BEGIN:VEVENT
SUMMARY:Sakae Fuchino
DTSTART:20210512T140000Z
DTEND:20210512T153000Z
DTSTAMP:20260422T225847Z
UID:BCNSETS/31
DESCRIPTION:by Sakae Fuchino as part of Barcelona Set Theory Seminar\n\nAb
 stract: TBA\n
LOCATION:https://researchseminars.org/talk/BCNSETS/31/
END:VEVENT
BEGIN:VEVENT
SUMMARY:David Asperó
DTSTART:20210526T140000Z
DTEND:20210526T153000Z
DTSTAMP:20260422T225847Z
UID:BCNSETS/32
DESCRIPTION:by David Asperó as part of Barcelona Set Theory Seminar\n\nAb
 stract: TBA\n
LOCATION:https://researchseminars.org/talk/BCNSETS/32/
END:VEVENT
BEGIN:VEVENT
SUMMARY:Michał Godziszewski (University of Warsaw)
DTSTART:20210602T140000Z
DTEND:20210602T153000Z
DTSTAMP:20260422T225847Z
UID:BCNSETS/33
DESCRIPTION:by Michał Godziszewski (University of Warsaw) as part of Barc
 elona Set Theory Seminar\n\nAbstract: TBA\n
LOCATION:https://researchseminars.org/talk/BCNSETS/33/
END:VEVENT
BEGIN:VEVENT
SUMMARY:Wojciech Woloszyn (University of Oxford)
DTSTART:20210317T150000Z
DTEND:20210317T163000Z
DTSTAMP:20260422T225847Z
UID:BCNSETS/34
DESCRIPTION:Title: <a href="https://researchseminars.org/talk/BCNSETS/34/"
 >Modal graph theory as a foundation of mathematics</a>\nby Wojciech Wolosz
 yn (University of Oxford) as part of Barcelona Set Theory Seminar\n\nAbstr
 act: TBA\n
LOCATION:https://researchseminars.org/talk/BCNSETS/34/
END:VEVENT
BEGIN:VEVENT
SUMMARY:Raffaella Cutolo (Università di Napoli)
DTSTART:20210609T140000Z
DTEND:20210609T153000Z
DTSTAMP:20260422T225847Z
UID:BCNSETS/35
DESCRIPTION:by Raffaella Cutolo (Università di Napoli) as part of Barcelo
 na Set Theory Seminar\n\nAbstract: TBA\n
LOCATION:https://researchseminars.org/talk/BCNSETS/35/
END:VEVENT
BEGIN:VEVENT
SUMMARY:Zhixing You (Chinese Academy of Sciences and Universitat de Barcel
 ona)
DTSTART:20210929T140000Z
DTEND:20210929T153000Z
DTSTAMP:20260422T225847Z
UID:BCNSETS/36
DESCRIPTION:Title: <a href="https://researchseminars.org/talk/BCNSETS/36/"
 >Hierarchies of delta-strongly but not full strongly compact cardinals</a>
 \nby Zhixing You (Chinese Academy of Sciences and Universitat de Barcelona
 ) as part of Barcelona Set Theory Seminar\n\nAbstract: TBA\n
LOCATION:https://researchseminars.org/talk/BCNSETS/36/
END:VEVENT
BEGIN:VEVENT
SUMMARY:Chris Scambler (New York University)
DTSTART:20211124T150000Z
DTEND:20211124T163000Z
DTSTAMP:20260422T225847Z
UID:BCNSETS/37
DESCRIPTION:by Chris Scambler (New York University) as part of Barcelona S
 et Theory Seminar\n\nAbstract: TBA\n
LOCATION:https://researchseminars.org/talk/BCNSETS/37/
END:VEVENT
BEGIN:VEVENT
SUMMARY:Philip Welch (Bristol)
DTSTART:20211020T140000Z
DTEND:20211020T153000Z
DTSTAMP:20260422T225847Z
UID:BCNSETS/38
DESCRIPTION:Title: <a href="https://researchseminars.org/talk/BCNSETS/38/"
 >The universe constructed from a set (or class) of regular cardinals</a>\n
 by Philip Welch (Bristol) as part of Barcelona Set Theory Seminar\n\nAbstr
 act: TBA\n
LOCATION:https://researchseminars.org/talk/BCNSETS/38/
END:VEVENT
BEGIN:VEVENT
SUMMARY:Menachem Magidor
DTSTART:20211201T150000Z
DTEND:20211201T163000Z
DTSTAMP:20260422T225847Z
UID:BCNSETS/39
DESCRIPTION:by Menachem Magidor as part of Barcelona Set Theory Seminar\n\
 nAbstract: TBA\n
LOCATION:https://researchseminars.org/talk/BCNSETS/39/
END:VEVENT
BEGIN:VEVENT
SUMMARY:Martina Iannella (Barcelona)
DTSTART:20211027T140000Z
DTEND:20211027T153000Z
DTSTAMP:20260422T225847Z
UID:BCNSETS/40
DESCRIPTION:Title: <a href="https://researchseminars.org/talk/BCNSETS/40/"
 >Convex embeddability on linear/circular orders and connections to knot th
 eory</a>\nby Martina Iannella (Barcelona) as part of Barcelona Set Theory 
 Seminar\n\nAbstract: TBA\n
LOCATION:https://researchseminars.org/talk/BCNSETS/40/
END:VEVENT
BEGIN:VEVENT
SUMMARY:Philipp Schlicht (Torino)
DTSTART:20211208T150000Z
DTEND:20211208T163000Z
DTSTAMP:20260422T225847Z
UID:BCNSETS/41
DESCRIPTION:by Philipp Schlicht (Torino) as part of Barcelona Set Theory S
 eminar\n\nAbstract: TBA\n
LOCATION:https://researchseminars.org/talk/BCNSETS/41/
END:VEVENT
BEGIN:VEVENT
SUMMARY:Sean Cox
DTSTART:20211103T150000Z
DTEND:20211103T163000Z
DTSTAMP:20260422T225847Z
UID:BCNSETS/42
DESCRIPTION:by Sean Cox as part of Barcelona Set Theory Seminar\n\nAbstrac
 t: TBA\n
LOCATION:https://researchseminars.org/talk/BCNSETS/42/
END:VEVENT
BEGIN:VEVENT
SUMMARY:Luca Motto-Ros
DTSTART:20211215T150000Z
DTEND:20211215T163000Z
DTSTAMP:20260422T225847Z
UID:BCNSETS/43
DESCRIPTION:by Luca Motto-Ros as part of Barcelona Set Theory Seminar\n\nA
 bstract: TBA\n
LOCATION:https://researchseminars.org/talk/BCNSETS/43/
END:VEVENT
BEGIN:VEVENT
SUMMARY:Yaroslav Sergeyev
DTSTART:20211110T150000Z
DTEND:20211110T163000Z
DTSTAMP:20260422T225847Z
UID:BCNSETS/44
DESCRIPTION:by Yaroslav Sergeyev as part of Barcelona Set Theory Seminar\n
 \nAbstract: TBA\n
LOCATION:https://researchseminars.org/talk/BCNSETS/44/
END:VEVENT
BEGIN:VEVENT
SUMMARY:Rupert McCallum (University of Tübingen)
DTSTART:20220202T150000Z
DTEND:20220202T163000Z
DTSTAMP:20260422T225847Z
UID:BCNSETS/45
DESCRIPTION:by Rupert McCallum (University of Tübingen) as part of Barcel
 ona Set Theory Seminar\n\nAbstract: TBA\n
LOCATION:https://researchseminars.org/talk/BCNSETS/45/
END:VEVENT
BEGIN:VEVENT
SUMMARY:Will Boney (Texas State University)
DTSTART:20220504T140000Z
DTEND:20220504T153000Z
DTSTAMP:20260422T225847Z
UID:BCNSETS/46
DESCRIPTION:Title: <a href="https://researchseminars.org/talk/BCNSETS/46/"
 >Compactness of strong logics and large cardinals</a>\nby Will Boney (Texa
 s State University) as part of Barcelona Set Theory Seminar\n\nAbstract: T
 BA\n
LOCATION:https://researchseminars.org/talk/BCNSETS/46/
END:VEVENT
BEGIN:VEVENT
SUMMARY:William Chan (Carnegie Mellon University)
DTSTART:20220601T140000Z
DTEND:20220601T153000Z
DTSTAMP:20260422T225847Z
UID:BCNSETS/47
DESCRIPTION:Title: <a href="https://researchseminars.org/talk/BCNSETS/47/"
 >Almost Disjoint Families under Determinacy</a>\nby William Chan (Carnegie
  Mellon University) as part of Barcelona Set Theory Seminar\n\nAbstract: T
 BA\n
LOCATION:https://researchseminars.org/talk/BCNSETS/47/
END:VEVENT
BEGIN:VEVENT
SUMMARY:Peter Holy
DTSTART:20220525T140000Z
DTEND:20220525T153000Z
DTSTAMP:20260422T225847Z
UID:BCNSETS/48
DESCRIPTION:Title: <a href="https://researchseminars.org/talk/BCNSETS/48/"
 >Asymmetric Cut and Choose Games</a>\nby Peter Holy as part of Barcelona S
 et Theory Seminar\n\nAbstract: TBA\n
LOCATION:https://researchseminars.org/talk/BCNSETS/48/
END:VEVENT
BEGIN:VEVENT
SUMMARY:Sandra Müller (TU Wien)
DTSTART:20220511T140000Z
DTEND:20220511T153000Z
DTSTAMP:20260422T225847Z
UID:BCNSETS/49
DESCRIPTION:Title: <a href="https://researchseminars.org/talk/BCNSETS/49/"
 >Inner Models\, Determinacy\, and Sealing</a>\nby Sandra Müller (TU Wien)
  as part of Barcelona Set Theory Seminar\n\nAbstract: TBA\n
LOCATION:https://researchseminars.org/talk/BCNSETS/49/
END:VEVENT
BEGIN:VEVENT
SUMMARY:Kameryn Williams (Sam Houston State University)
DTSTART:20220615T140000Z
DTEND:20220615T153000Z
DTSTAMP:20260422T225847Z
UID:BCNSETS/51
DESCRIPTION:by Kameryn Williams (Sam Houston State University) as part of 
 Barcelona Set Theory Seminar\n\nAbstract: TBA\n
LOCATION:https://researchseminars.org/talk/BCNSETS/51/
END:VEVENT
BEGIN:VEVENT
SUMMARY:Jeffrey Bergfalk (Barcelona)
DTSTART:20220622T140000Z
DTEND:20220622T153000Z
DTSTAMP:20260422T225847Z
UID:BCNSETS/52
DESCRIPTION:by Jeffrey Bergfalk (Barcelona) as part of Barcelona Set Theor
 y Seminar\n\nAbstract: TBA\n
LOCATION:https://researchseminars.org/talk/BCNSETS/52/
END:VEVENT
BEGIN:VEVENT
SUMMARY:Laura Fontanella (Paris Est-Créteil)
DTSTART:20220518T140000Z
DTEND:20220518T153000Z
DTSTAMP:20260422T225847Z
UID:BCNSETS/53
DESCRIPTION:by Laura Fontanella (Paris Est-Créteil) as part of Barcelona 
 Set Theory Seminar\n\nAbstract: TBA\n
LOCATION:https://researchseminars.org/talk/BCNSETS/53/
END:VEVENT
BEGIN:VEVENT
SUMMARY:William Mance (Poznan)
DTSTART:20220608T140000Z
DTEND:20220608T153000Z
DTSTAMP:20260422T225847Z
UID:BCNSETS/54
DESCRIPTION:Title: <a href="https://researchseminars.org/talk/BCNSETS/54/"
 >Descriptive complexity in number theory and  dynamics</a>\nby William Man
 ce (Poznan) as part of Barcelona Set Theory Seminar\n\nAbstract: TBA\n
LOCATION:https://researchseminars.org/talk/BCNSETS/54/
END:VEVENT
BEGIN:VEVENT
SUMMARY:Omer Ben-Neria (Hebrew University of Jerusalem)
DTSTART:20220720T140000Z
DTEND:20220720T153000Z
DTSTAMP:20260422T225847Z
UID:BCNSETS/55
DESCRIPTION:Title: <a href="https://researchseminars.org/talk/BCNSETS/55/"
 >Diamond\, Compactness\, and product approximations</a>\nby Omer Ben-Neria
  (Hebrew University of Jerusalem) as part of Barcelona Set Theory Seminar\
 n\nAbstract: TBA\n
LOCATION:https://researchseminars.org/talk/BCNSETS/55/
END:VEVENT
BEGIN:VEVENT
SUMMARY:Juan P. Aguilera (Vienna)
DTSTART:20221026T140000Z
DTEND:20221026T153000Z
DTSTAMP:20260422T225847Z
UID:BCNSETS/57
DESCRIPTION:by Juan P. Aguilera (Vienna) as part of Barcelona Set Theory S
 eminar\n\nAbstract: TBA\n
LOCATION:https://researchseminars.org/talk/BCNSETS/57/
END:VEVENT
BEGIN:VEVENT
SUMMARY:Christopher Turner (Bristol)
DTSTART:20221019T140000Z
DTEND:20221019T153000Z
DTSTAMP:20260422T225847Z
UID:BCNSETS/58
DESCRIPTION:Title: <a href="https://researchseminars.org/talk/BCNSETS/58/"
 >Löwenheim-Skolem-Tarski Numbers for  Regularity Quantifiers</a>\nby Chri
 stopher Turner (Bristol) as part of Barcelona Set Theory Seminar\n\nAbstra
 ct: TBA\n
LOCATION:https://researchseminars.org/talk/BCNSETS/58/
END:VEVENT
BEGIN:VEVENT
SUMMARY:Philipp Lücke (Barcelona)
DTSTART:20221102T150000Z
DTEND:20221102T163000Z
DTSTAMP:20260422T225847Z
UID:BCNSETS/59
DESCRIPTION:Title: <a href="https://researchseminars.org/talk/BCNSETS/59/"
 >Rowbottom cardinals and definability</a>\nby Philipp Lücke (Barcelona) a
 s part of Barcelona Set Theory Seminar\n\nAbstract: TBA\n
LOCATION:https://researchseminars.org/talk/BCNSETS/59/
END:VEVENT
BEGIN:VEVENT
SUMMARY:Maxwell Levine (Universität Freiburg)
DTSTART:20230222T150000Z
DTEND:20230222T163000Z
DTSTAMP:20260422T225847Z
UID:BCNSETS/60
DESCRIPTION:Title: <a href="https://researchseminars.org/talk/BCNSETS/60/"
 >On Disjoint Stationary Sequences</a>\nby Maxwell Levine (Universität Fre
 iburg) as part of Barcelona Set Theory Seminar\n\nAbstract: TBA\n
LOCATION:https://researchseminars.org/talk/BCNSETS/60/
END:VEVENT
BEGIN:VEVENT
SUMMARY:Radek Honzik (Charles University)
DTSTART:20230308T150000Z
DTEND:20230308T163000Z
DTSTAMP:20260422T225847Z
UID:BCNSETS/61
DESCRIPTION:Title: <a href="https://researchseminars.org/talk/BCNSETS/61/"
 >Compactness principles at small cardinals and their preservation</a>\nby 
 Radek Honzik (Charles University) as part of Barcelona Set Theory Seminar\
 n\nAbstract: TBA\n
LOCATION:https://researchseminars.org/talk/BCNSETS/61/
END:VEVENT
BEGIN:VEVENT
SUMMARY:Boriša Kuzeljević (University of Novi Sad)
DTSTART:20230301T150000Z
DTEND:20230301T163000Z
DTSTAMP:20260422T225847Z
UID:BCNSETS/62
DESCRIPTION:Title: <a href="https://researchseminars.org/talk/BCNSETS/62/"
 >Lower bounds of sets of P-points</a>\nby Boriša Kuzeljević (University 
 of Novi Sad) as part of Barcelona Set Theory Seminar\n\nAbstract: TBA\n
LOCATION:https://researchseminars.org/talk/BCNSETS/62/
END:VEVENT
BEGIN:VEVENT
SUMMARY:Andreas Lietz (Universität Münster)
DTSTART:20230215T150000Z
DTEND:20230215T163000Z
DTSTAMP:20260422T225847Z
UID:BCNSETS/63
DESCRIPTION:Title: <a href="https://researchseminars.org/talk/BCNSETS/63/"
 >Forcing "NS is \\omega_1-Dense" from Large Cardinals</a>\nby Andreas Liet
 z (Universität Münster) as part of Barcelona Set Theory Seminar\n\nAbstr
 act: TBA\n
LOCATION:https://researchseminars.org/talk/BCNSETS/63/
END:VEVENT
END:VCALENDAR
