BEGIN:VCALENDAR
VERSION:2.0
PRODID:researchseminars.org
CALSCALE:GREGORIAN
X-WR-CALNAME:researchseminars.org
BEGIN:VEVENT
SUMMARY:Hirofumi Notsu (Kanazawa University)
DTSTART:20241126T080000Z
DTEND:20241126T083000Z
DTSTAMP:20260423T035056Z
UID:workshop/1
DESCRIPTION:Title: <a href="https://researchseminars.org/talk/workshop/1/"
 >An energy estimate and a stabilized Lagrange-Galerkin scheme for a multip
 hase flow model</a>\nby Hirofumi Notsu (Kanazawa University) as part of Wo
 rkshop with the Kanazawa University\n\nAbstract: TBA\n
LOCATION:https://researchseminars.org/talk/workshop/1/
END:VEVENT
END:VCALENDAR
