BEGIN:VCALENDAR
VERSION:2.0
PRODID:researchseminars.org
CALSCALE:GREGORIAN
X-WR-CALNAME:researchseminars.org
BEGIN:VEVENT
SUMMARY:Padma Srinivasan (Boston University)
DTSTART:20240910T170000Z
DTEND:20240910T180000Z
DTSTAMP:20260423T052621Z
UID:vantage/98
DESCRIPTION:Title: <a href="https://researchseminars.org/talk/vantage/98/"
 >Algorithms for certifying nontriviality of Ceresa cycles</a>\nby Padma Sr
 inivasan (Boston University) as part of VaNTAGe\n\nAbstract: TBA\n
LOCATION:https://researchseminars.org/talk/vantage/98/
END:VEVENT
END:VCALENDAR
