BEGIN:VCALENDAR
VERSION:2.0
PRODID:researchseminars.org
CALSCALE:GREGORIAN
X-WR-CALNAME:researchseminars.org
BEGIN:VEVENT
SUMMARY:Ari Shnidman (Hebrew University of Jerusalem)
DTSTART:20240827T170000Z
DTEND:20240827T180000Z
DTSTAMP:20260423T021342Z
UID:vantage/97
DESCRIPTION:Title: <a href="https://researchseminars.org/talk/vantage/97/"
 >Vanishing criteria for Ceresa classes and examples</a>\nby Ari Shnidman (
 Hebrew University of Jerusalem) as part of VaNTAGe\n\nAbstract: TBA\n
LOCATION:https://researchseminars.org/talk/vantage/97/
END:VEVENT
END:VCALENDAR
