BEGIN:VCALENDAR
VERSION:2.0
PRODID:researchseminars.org
CALSCALE:GREGORIAN
X-WR-CALNAME:researchseminars.org
BEGIN:VEVENT
SUMMARY:Noemie Combe (University of Warsaw)
DTSTART:20231219T180000Z
DTEND:20231219T190000Z
DTSTAMP:20260423T021153Z
UID:vantage/87
DESCRIPTION:Title: <a href="https://researchseminars.org/talk/vantage/87/"
 >Avatars of Grothendieck—Teichmuller groups and the absolute Galois grou
 p</a>\nby Noemie Combe (University of Warsaw) as part of VaNTAGe\n\nAbstra
 ct: TBA\n
LOCATION:https://researchseminars.org/talk/vantage/87/
END:VEVENT
END:VCALENDAR
