BEGIN:VCALENDAR
VERSION:2.0
PRODID:researchseminars.org
CALSCALE:GREGORIAN
X-WR-CALNAME:researchseminars.org
BEGIN:VEVENT
SUMMARY:David Harbater (University of Pennsylvania)
DTSTART:20231003T170000Z
DTEND:20231003T180000Z
DTSTAMP:20260423T035716Z
UID:vantage/86
DESCRIPTION:Title: <a href="https://researchseminars.org/talk/vantage/86/"
 >An overview of the inverse Galois problem</a>\nby David Harbater (Univers
 ity of Pennsylvania) as part of VaNTAGe\n\nAbstract: TBA\n
LOCATION:https://researchseminars.org/talk/vantage/86/
END:VEVENT
END:VCALENDAR
