BEGIN:VCALENDAR
VERSION:2.0
PRODID:researchseminars.org
CALSCALE:GREGORIAN
X-WR-CALNAME:researchseminars.org
BEGIN:VEVENT
SUMMARY:Lior Bary-Soroker (Tel Aviv University)
DTSTART:20231017T170000Z
DTEND:20231017T180000Z
DTSTAMP:20260423T035635Z
UID:vantage/80
DESCRIPTION:Title: <a href="https://researchseminars.org/talk/vantage/80/"
 >On the discriminant of random polynomials</a>\nby Lior Bary-Soroker (Tel 
 Aviv University) as part of VaNTAGe\n\nAbstract: TBA\n
LOCATION:https://researchseminars.org/talk/vantage/80/
END:VEVENT
END:VCALENDAR
