BEGIN:VCALENDAR
VERSION:2.0
PRODID:researchseminars.org
CALSCALE:GREGORIAN
X-WR-CALNAME:researchseminars.org
BEGIN:VEVENT
SUMMARY:Bryden Cais (University of Arizona)
DTSTART:20230404T170000Z
DTEND:20230404T180000Z
DTSTAMP:20260423T035740Z
UID:vantage/75
DESCRIPTION:Title: <a href="https://researchseminars.org/talk/vantage/75/"
 >Iwasawa theory for class group schemes in characteristic $p$</a>\nby Bryd
 en Cais (University of Arizona) as part of VaNTAGe\n\nAbstract: TBA\n
LOCATION:https://researchseminars.org/talk/vantage/75/
END:VEVENT
END:VCALENDAR
