BEGIN:VCALENDAR
VERSION:2.0
PRODID:researchseminars.org
CALSCALE:GREGORIAN
X-WR-CALNAME:researchseminars.org
BEGIN:VEVENT
SUMMARY:Jacob Tsimerman (University of Toronto)
DTSTART:20211207T180000Z
DTEND:20211207T190000Z
DTSTAMP:20260423T035935Z
UID:vantage/51
DESCRIPTION:Title: <a href="https://researchseminars.org/talk/vantage/51/"
 >Heights and the André Oort conjecture</a>\nby Jacob Tsimerman (Universit
 y of Toronto) as part of VaNTAGe\n\nAbstract: TBA\n
LOCATION:https://researchseminars.org/talk/vantage/51/
END:VEVENT
END:VCALENDAR
