BEGIN:VCALENDAR
VERSION:2.0
PRODID:researchseminars.org
CALSCALE:GREGORIAN
X-WR-CALNAME:researchseminars.org
BEGIN:VEVENT
SUMMARY:Ananth Shankar (University of Wisconsin\, Madison)
DTSTART:20211123T180000Z
DTEND:20211123T190000Z
DTSTAMP:20260423T035911Z
UID:vantage/50
DESCRIPTION:Title: <a href="https://researchseminars.org/talk/vantage/50/"
 >Picard ranks of K3 surfaces and the Hecke orbit conjecture</a>\nby Ananth
  Shankar (University of Wisconsin\, Madison) as part of VaNTAGe\n\nAbstrac
 t: TBA\n
LOCATION:https://researchseminars.org/talk/vantage/50/
END:VEVENT
END:VCALENDAR
