BEGIN:VCALENDAR
VERSION:2.0
PRODID:researchseminars.org
CALSCALE:GREGORIAN
X-WR-CALNAME:researchseminars.org
BEGIN:VEVENT
SUMMARY:Lillian Pierce (Duke)
DTSTART:20200121T180000Z
DTEND:20200121T190000Z
DTSTAMP:20260423T021109Z
UID:vantage/5
DESCRIPTION:Title: <a href="https://researchseminars.org/talk/vantage/5/">
 On some questions in number theory\, from the perspective of moments.</a>\
 nby Lillian Pierce (Duke) as part of VaNTAGe\n\nAbstract: TBA\n
LOCATION:https://researchseminars.org/talk/vantage/5/
END:VEVENT
END:VCALENDAR
