BEGIN:VCALENDAR
VERSION:2.0
PRODID:researchseminars.org
CALSCALE:GREGORIAN
X-WR-CALNAME:researchseminars.org
BEGIN:VEVENT
SUMMARY:Wanlin Li (University of Montreal)
DTSTART:20211109T180000Z
DTEND:20211109T190000Z
DTSTAMP:20260423T021140Z
UID:vantage/49
DESCRIPTION:Title: <a href="https://researchseminars.org/talk/vantage/49/"
 >A generalization to Elkies' Theorem on infinitely many supersingular prim
 es</a>\nby Wanlin Li (University of Montreal) as part of VaNTAGe\n\nAbstra
 ct: TBA\n
LOCATION:https://researchseminars.org/talk/vantage/49/
END:VEVENT
END:VCALENDAR
