BEGIN:VCALENDAR
VERSION:2.0
PRODID:researchseminars.org
CALSCALE:GREGORIAN
X-WR-CALNAME:researchseminars.org
BEGIN:VEVENT
SUMMARY:Filip Najman (University of Zagreb)
DTSTART:20210629T170000Z
DTEND:20210629T180000Z
DTSTAMP:20260423T035628Z
UID:vantage/41
DESCRIPTION:Title: <a href="https://researchseminars.org/talk/vantage/41/"
 >$\\mathbb Q$-curves over odd degree fields and sporadic points.</a>\nby F
 ilip Najman (University of Zagreb) as part of VaNTAGe\n\nAbstract: TBA\n
LOCATION:https://researchseminars.org/talk/vantage/41/
END:VEVENT
END:VCALENDAR
