BEGIN:VCALENDAR
VERSION:2.0
PRODID:researchseminars.org
CALSCALE:GREGORIAN
X-WR-CALNAME:researchseminars.org
BEGIN:VEVENT
SUMMARY:Padma Srinivasan (University of Georgia)
DTSTART:20201208T180000Z
DTEND:20201208T183000Z
DTSTAMP:20260423T052621Z
UID:vantage/24
DESCRIPTION:Title: <a href="https://researchseminars.org/talk/vantage/24/"
 >Computing exceptional primes associated to Galois representations of abel
 ian surfaces</a>\nby Padma Srinivasan (University of Georgia) as part of V
 aNTAGe\n\nAbstract: TBA\n
LOCATION:https://researchseminars.org/talk/vantage/24/
END:VEVENT
END:VCALENDAR
