BEGIN:VCALENDAR
VERSION:2.0
PRODID:researchseminars.org
CALSCALE:GREGORIAN
X-WR-CALNAME:researchseminars.org
BEGIN:VEVENT
SUMMARY:Nicholas Triantafillou (University of Georgia)
DTSTART:20201110T180000Z
DTEND:20201110T183000Z
DTSTAMP:20260423T035716Z
UID:vantage/20
DESCRIPTION:Title: <a href="https://researchseminars.org/talk/vantage/20/"
 >Computing isolated points on modular curves</a>\nby Nicholas Triantafillo
 u (University of Georgia) as part of VaNTAGe\n\nAbstract: TBA\n
LOCATION:https://researchseminars.org/talk/vantage/20/
END:VEVENT
END:VCALENDAR
