BEGIN:VCALENDAR
VERSION:2.0
PRODID:researchseminars.org
CALSCALE:GREGORIAN
X-WR-CALNAME:researchseminars.org
BEGIN:VEVENT
SUMMARY:Andrew Sutherland (MIT)
DTSTART:20200428T170000Z
DTEND:20200428T180000Z
DTSTAMP:20260423T021131Z
UID:vantage/2
DESCRIPTION:Title: <a href="https://researchseminars.org/talk/vantage/2/">
 Arithmetic L-functions and their Sato-Tate distributions</a>\nby Andrew Su
 therland (MIT) as part of VaNTAGe\n\nAbstract: TBA\n\nMSC:11M50 MSG:11G10 
 MSG:11G20 MSC:14G10 MSC:14K15\n
LOCATION:https://researchseminars.org/talk/vantage/2/
END:VEVENT
END:VCALENDAR
