BEGIN:VCALENDAR
VERSION:2.0
PRODID:researchseminars.org
CALSCALE:GREGORIAN
X-WR-CALNAME:researchseminars.org
BEGIN:VEVENT
SUMMARY:Jeremy Avigad (Carnegie Mellon)\, Jennifer Johnson-Leung (Universi
 ty of Idaho)\, Jacob Tismerman (University of Toronto)\, and Ravi Vakil (S
 tanford)
DTSTART:20260505T170000Z
DTEND:20260505T180000Z
DTSTAMP:20260423T021229Z
UID:vantage/127
DESCRIPTION:Title: <a href="https://researchseminars.org/talk/vantage/127/
 ">Panel on Number Theory and AI</a>\nby Jeremy Avigad (Carnegie Mellon)\, 
 Jennifer Johnson-Leung (University of Idaho)\, Jacob Tismerman (University
  of Toronto)\, and Ravi Vakil (Stanford) as part of VaNTAGe\n\nAbstract: T
 BA\n
LOCATION:https://researchseminars.org/talk/vantage/127/
END:VEVENT
END:VCALENDAR
