BEGIN:VCALENDAR
VERSION:2.0
PRODID:researchseminars.org
CALSCALE:GREGORIAN
X-WR-CALNAME:researchseminars.org
BEGIN:VEVENT
SUMMARY:Aly Deines
DTSTART:20260210T180000Z
DTEND:20260210T190000Z
DTSTAMP:20260423T035736Z
UID:vantage/121
DESCRIPTION:Title: <a href="https://researchseminars.org/talk/vantage/121/
 ">Machine learning rational L-functions</a>\nby Aly Deines as part of VaNT
 AGe\n\nAbstract: TBA\n
LOCATION:https://researchseminars.org/talk/vantage/121/
END:VEVENT
END:VCALENDAR
