BEGIN:VCALENDAR
VERSION:2.0
PRODID:researchseminars.org
CALSCALE:GREGORIAN
X-WR-CALNAME:researchseminars.org
BEGIN:VEVENT
SUMMARY:Christian Maire (l'Institut FEMTO-ST)
DTSTART:20251202T180000Z
DTEND:20251202T190000Z
DTSTAMP:20260423T021356Z
UID:vantage/119
DESCRIPTION:Title: <a href="https://researchseminars.org/talk/vantage/119/
 ">Massey’s products in number fields</a>\nby Christian Maire (l'Institut
  FEMTO-ST) as part of VaNTAGe\n\nAbstract: TBA\n
LOCATION:https://researchseminars.org/talk/vantage/119/
END:VEVENT
END:VCALENDAR
