BEGIN:VCALENDAR
VERSION:2.0
PRODID:researchseminars.org
CALSCALE:GREGORIAN
X-WR-CALNAME:researchseminars.org
BEGIN:VEVENT
SUMMARY:Romyar Sharifi (UCLA)
DTSTART:20250429T170000Z
DTEND:20250429T180000Z
DTSTAMP:20260423T035618Z
UID:vantage/111
DESCRIPTION:Title: <a href="https://researchseminars.org/talk/vantage/111/
 ">Arithmetic through the geometry of locally symmetric spaces</a>\nby Romy
 ar Sharifi (UCLA) as part of VaNTAGe\n\nAbstract: TBA\n
LOCATION:https://researchseminars.org/talk/vantage/111/
END:VEVENT
END:VCALENDAR
