BEGIN:VCALENDAR
VERSION:2.0
PRODID:researchseminars.org
CALSCALE:GREGORIAN
X-WR-CALNAME:researchseminars.org
BEGIN:VEVENT
SUMMARY:Benjamin Collas (Kyoto University)
DTSTART:20250520T140000Z
DTEND:20250520T150000Z
DTSTAMP:20260423T035751Z
UID:vantage/110
DESCRIPTION:Title: <a href="https://researchseminars.org/talk/vantage/110/
 ">Oda's problem for the arithmetic homotopy of moduli spaces of curves and
  stack symmetries</a>\nby Benjamin Collas (Kyoto University) as part of Va
 NTAGe\n\nAbstract: TBA\n
LOCATION:https://researchseminars.org/talk/vantage/110/
END:VEVENT
END:VCALENDAR
