BEGIN:VCALENDAR
VERSION:2.0
PRODID:researchseminars.org
CALSCALE:GREGORIAN
X-WR-CALNAME:researchseminars.org
BEGIN:VEVENT
SUMMARY:Patrick Ingram (York University)
DTSTART:20200609T170000Z
DTEND:20200609T180000Z
DTSTAMP:20260423T035735Z
UID:vantage/11
DESCRIPTION:Title: <a href="https://researchseminars.org/talk/vantage/11/"
 >The critical height of an endomorphism of projective space</a>\nby Patric
 k Ingram (York University) as part of VaNTAGe\n\nAbstract: TBA\n
LOCATION:https://researchseminars.org/talk/vantage/11/
END:VEVENT
END:VCALENDAR
