BEGIN:VCALENDAR
VERSION:2.0
PRODID:researchseminars.org
CALSCALE:GREGORIAN
X-WR-CALNAME:researchseminars.org
BEGIN:VEVENT
SUMMARY:Richard Hain (Duke University)
DTSTART:20241001T170000Z
DTEND:20241001T180000Z
DTSTAMP:20260423T035715Z
UID:vantage/100
DESCRIPTION:Title: <a href="https://researchseminars.org/talk/vantage/100/
 ">What can one say about the loci where the normal function of the Ceresa 
 cycle is constant?</a>\nby Richard Hain (Duke University) as part of VaNTA
 Ge\n\nAbstract: TBA\n
LOCATION:https://researchseminars.org/talk/vantage/100/
END:VEVENT
END:VCALENDAR
