BEGIN:VCALENDAR
VERSION:2.0
PRODID:researchseminars.org
CALSCALE:GREGORIAN
X-WR-CALNAME:researchseminars.org
BEGIN:VEVENT
SUMMARY:Renato Paes Leme (Google Research)
DTSTART:20200511T173000Z
DTEND:20200511T181500Z
DTSTAMP:20260423T005840Z
UID:tw20cegs/3
DESCRIPTION:Title: <a href="https://researchseminars.org/talk/tw20cegs/3/"
 >On the construction of substitutes</a>\nby Renato Paes Leme (Google Resea
 rch) as part of Competitive Equilibrium with Gross Substitutes\, with Appl
 ications to Problems in Matching\, Pricing\,\n\nAbstract: TBA\n
LOCATION:https://researchseminars.org/talk/tw20cegs/3/
END:VEVENT
END:VCALENDAR
