BEGIN:VCALENDAR
VERSION:2.0
PRODID:researchseminars.org
CALSCALE:GREGORIAN
X-WR-CALNAME:researchseminars.org
BEGIN:VEVENT
SUMMARY:Akikazu Hashimoto (Wisconsin University)
DTSTART:20201109T013000Z
DTEND:20201109T023000Z
DTSTAMP:20260423T024611Z
UID:ttbar2020/2
DESCRIPTION:Title: <a href="https://researchseminars.org/talk/ttbar2020/2/
 ">Observables of TT-bar deformed CFTs and generalizations</a>\nby Akikazu 
 Hashimoto (Wisconsin University) as part of TTbar Deformation and Integrab
 ility\n\n\nAbstract\nFor a CFT deformed simultaneously by TT-bar\, JT-bar\
 , and TJ-bar\, I will describe two concrete physical observables. One is t
 he torus partition function\, and the other is the entanglement entropy. I
  will also discuss some applications.\n
LOCATION:https://researchseminars.org/talk/ttbar2020/2/
END:VEVENT
END:VCALENDAR
