BEGIN:VCALENDAR
VERSION:2.0
PRODID:researchseminars.org
CALSCALE:GREGORIAN
X-WR-CALNAME:researchseminars.org
BEGIN:VEVENT
SUMMARY:Prof. Amie Wilkinson (University of Chicago)
DTSTART:20220621T123000Z
DTEND:20220621T133000Z
DTSTAMP:20260423T005706Z
UID:tmc-dls/33
DESCRIPTION:Title: <a href="https://researchseminars.org/talk/tmc-dls/33/"
 >Asymmetry in dynamics</a>\nby Prof. Amie Wilkinson (University of Chicago
 ) as part of TMC Distinguished Lecture Series\n\n\nAbstract\nWe shall init
 ially discuss what symmetries mean in the context of dynamical systems of 
 different flavors: complex analytic\, Hamiltonian\, or smooth. We shall th
 en discuss progress towards a resolution of a conjecture of Smale: a gener
 ic smooth dynamical system has only trivial symmetries.\n
LOCATION:https://researchseminars.org/talk/tmc-dls/33/
END:VEVENT
END:VCALENDAR
