BEGIN:VCALENDAR
VERSION:2.0
PRODID:researchseminars.org
CALSCALE:GREGORIAN
X-WR-CALNAME:researchseminars.org
BEGIN:VEVENT
SUMMARY:Prof. Irit Dinur (Weizmann Institute of Science)
DTSTART:20220104T060000Z
DTEND:20220104T070000Z
DTSTAMP:20260423T024552Z
UID:tmc-dls/25
DESCRIPTION:Title: <a href="https://researchseminars.org/talk/tmc-dls/25/"
 >Live interactive session with the speaker</a>\nby Prof. Irit Dinur (Weizm
 ann Institute of Science) as part of TMC Distinguished Lecture Series\n\nA
 bstract: TBA\n
LOCATION:https://researchseminars.org/talk/tmc-dls/25/
END:VEVENT
END:VCALENDAR
