BEGIN:VCALENDAR
VERSION:2.0
PRODID:researchseminars.org
CALSCALE:GREGORIAN
X-WR-CALNAME:researchseminars.org
BEGIN:VEVENT
SUMMARY:Prof. Mladen Bestvina (University of Utah)
DTSTART:20211020T130000Z
DTEND:20211020T140000Z
DTSTAMP:20260423T035633Z
UID:tmc-dls/21
DESCRIPTION:Title: <a href="https://researchseminars.org/talk/tmc-dls/21/"
 >Live interactive session with the speaker</a>\nby Prof. Mladen Bestvina (
 University of Utah) as part of TMC Distinguished Lecture Series\n\nAbstrac
 t: TBA\n
LOCATION:https://researchseminars.org/talk/tmc-dls/21/
END:VEVENT
END:VCALENDAR
