BEGIN:VCALENDAR
VERSION:2.0
PRODID:researchseminars.org
CALSCALE:GREGORIAN
X-WR-CALNAME:researchseminars.org
BEGIN:VEVENT
SUMMARY:Prof. Mikhail Lyubich (Stony Brook University)
DTSTART:20210604T123000Z
DTEND:20210604T133000Z
DTSTAMP:20260423T024553Z
UID:tmc-dls/12
DESCRIPTION:Title: <a href="https://researchseminars.org/talk/tmc-dls/12/"
 >On the MLC Conjecture</a>\nby Prof. Mikhail Lyubich (Stony Brook Universi
 ty) as part of TMC Distinguished Lecture Series\n\n\nAbstract\nThe MLC Con
 jecture\, on local connectivity of the Mandelbrot set\, is one of the cent
 ral open problems in Holomorphic Dynamics. It turned out to be intimately 
 related to many other geometric themes of the area: Fatou's Conjecture on 
 the density of hyperbolicity\, self-similarity features of the Mandelbrot 
 set\, Lebesgue measure of Julia sets\, and so on. We will give an introduc
 tion to this problem and an update on its current status.\n
LOCATION:https://researchseminars.org/talk/tmc-dls/12/
END:VEVENT
END:VCALENDAR
