BEGIN:VCALENDAR
VERSION:2.0
PRODID:researchseminars.org
CALSCALE:GREGORIAN
X-WR-CALNAME:researchseminars.org
BEGIN:VEVENT
SUMMARY:Prof. Scott Sheffield (Massachusetts Institute of Technology)
DTSTART:20210224T123000Z
DTEND:20210224T133000Z
DTSTAMP:20260423T024554Z
UID:tmc-dls/10
DESCRIPTION:Title: <a href="https://researchseminars.org/talk/tmc-dls/10/"
 >Live interactive session with the speaker</a>\nby Prof. Scott Sheffield (
 Massachusetts Institute of Technology) as part of TMC Distinguished Lectur
 e Series\n\n\nAbstract\nhttps://sites.google.com/view/distinguishedlecture
 series/scott-sheffield\n\nProf. Scott Sheffield will discuss with particip
 ants about his talk 'Pandemics and paradox'. Visit https://sites.google.co
 m/view/distinguishedlectureseries/scott-sheffield for details.\n
LOCATION:https://researchseminars.org/talk/tmc-dls/10/
END:VEVENT
END:VCALENDAR
