BEGIN:VCALENDAR
VERSION:2.0
PRODID:researchseminars.org
CALSCALE:GREGORIAN
X-WR-CALNAME:researchseminars.org
BEGIN:VEVENT
SUMMARY:Ben Green (Prof.)
DTSTART:20260520T150000Z
DTEND:20260520T160000Z
DTSTAMP:20260423T004918Z
UID:th21/5
DESCRIPTION:Title: <a href="https://researchseminars.org/talk/th21/5/">The
  polynomial Freiman-Ruzsa conjecture</a>\nby Ben Green (Prof.) as part of 
 Theorems of the 21st Century Seminar\n\nInteractive livestream: https://te
 ams.microsoft.com/meet/369493884995096?p=hToieGzGaKc9AwriDs\nLecture held 
 in Online only.\n\nAbstract\nProf. Ben Green is an internationally renowne
 d mathematician whose work spans additive combinatorics\, number theory\, 
 and related areas of analysis. He is widely known for groundbreaking contr
 ibutions such as the Green–Tao theorem on arithmetic progressions in the
  primes\, and has received numerous prestigious awards in recognition of h
 is influence on modern mathematics. In this talk\, he will discuss the pol
 ynomial Freiman–Ruzsa conjecture\, outlining its background\, key ideas\
 , and recent resolution\, as well as its role in shaping current research 
 in additive combinatorics. See the blog announcement of this talk for more
  details at https://functor.network/user/3333/entry/1757\n
LOCATION:https://researchseminars.org/talk/th21/5/
URL:https://teams.microsoft.com/meet/369493884995096?p=hToieGzGaKc9AwriDs
END:VEVENT
END:VCALENDAR
