BEGIN:VCALENDAR
VERSION:2.0
PRODID:researchseminars.org
CALSCALE:GREGORIAN
X-WR-CALNAME:researchseminars.org
BEGIN:VEVENT
SUMMARY:Felix Wierstra (Korteweg-de Vries Institute for Mathematics\, Univ
 ersity of Amsterdam)
DTSTART:20230425T203000Z
DTEND:20230425T220000Z
DTSTAMP:20260422T174056Z
UID:tandg/7
DESCRIPTION:Title: <a href="https://researchseminars.org/talk/tandg/7/">A 
 recognition principle for iterated suspensions as coalgebras over the litt
 le cubes operad</a>\nby Felix Wierstra (Korteweg-de Vries Institute for Ma
 thematics\, University of Amsterdam) as part of Topology and Geometry Semi
 nar (Texas\, Kansas)\n\n\nAbstract\nIn this talk I will discus a recogniti
 on principle for iterated suspensions as coalgebras over the little cubes 
 operad.\nThis is joint work with Oisín Flynn-Connolly and José Moreno-Fe
 rnádez.\n
LOCATION:https://researchseminars.org/talk/tandg/7/
END:VEVENT
END:VCALENDAR
