BEGIN:VCALENDAR
VERSION:2.0
PRODID:researchseminars.org
CALSCALE:GREGORIAN
X-WR-CALNAME:researchseminars.org
BEGIN:VEVENT
SUMMARY:Jacob Lebovic (University of Oregon)
DTSTART:20240430T203000Z
DTEND:20240430T220000Z
DTSTAMP:20260422T174244Z
UID:tandg/20
DESCRIPTION:Title: <a href="https://researchseminars.org/talk/tandg/20/">I
 terated K-theory and Functorial Field Theory</a>\nby Jacob Lebovic (Univer
 sity of Oregon) as part of Topology and Geometry Seminar (Texas\, Kansas)\
 n\n\nAbstract\nUsing previous work by Bass\, Dundas\, and Rognes giving a 
 geometric model of the iterated K-theory spectrum K(ku) in terms of bundle
 s of Kapranov-Voevodsky 2-vector spaces\, and recent work by Grady and Pav
 lov providing a rigorous foundation for fully-extended functorial field th
 eories\, we construct a model of K(ku) in terms of 2-dimensional functoria
 l field theories valued in KV 2-vector spaces.\n
LOCATION:https://researchseminars.org/talk/tandg/20/
END:VEVENT
END:VCALENDAR
