BEGIN:VCALENDAR
VERSION:2.0
PRODID:researchseminars.org
CALSCALE:GREGORIAN
X-WR-CALNAME:researchseminars.org
BEGIN:VEVENT
SUMMARY:Gesine Reinert (University of Oxford)
DTSTART:20200911T150000Z
DTEND:20200911T160000Z
DTSTAMP:20260423T004733Z
UID:sss/4
DESCRIPTION:Title: <a href="https://researchseminars.org/talk/sss/4/">Stei
 n’s method for multivariate continuous distributions and applications</a
 >\nby Gesine Reinert (University of Oxford) as part of Stochastics and Sta
 tistics Seminar Series\n\n\nAbstract\nStein’s method is a key method for
  assessing distributional distance\, mainly for one-dimensional distributi
 ons. In this talk we provide a general approach to Stein’s method for mu
 ltivariate continuous distributions. Among the applications we consider is
  the Wasserstein distance between two continuous probability distributions
  under the assumption of existence of a Poincare constant.\n\nThis is join
 t work with Guillaume Mijoule (INRIA Paris) and Yvik Swan (Liege).\n
LOCATION:https://researchseminars.org/talk/sss/4/
END:VEVENT
END:VCALENDAR
